BEGIN:VCALENDAR
VERSION:2.0
PRODID:-//Digital Identity New Zealand - ECPv4.9.8//NONSGML v1.0//EN
CALSCALE:GREGORIAN
METHOD:PUBLISH
X-WR-CALNAME:Digital Identity New Zealand
X-ORIGINAL-URL:https://digitalidentity.nz
X-WR-CALDESC:Events for Digital Identity New Zealand
BEGIN:VTIMEZONE
TZID:Pacific/Auckland
BEGIN:STANDARD
TZOFFSETFROM:+1300
TZOFFSETTO:+1200
TZNAME:NZST
DTSTART:20200404T140000
END:STANDARD
BEGIN:DAYLIGHT
TZOFFSETFROM:+1200
TZOFFSETTO:+1300
TZNAME:NZDT
DTSTART:20200926T140000
END:DAYLIGHT
END:VTIMEZONE
BEGIN:VEVENT
DTSTART;TZID="Pacific/Auckland":20200123T130000
DTEND;TZID="Pacific/Auckland":20200123T150000
DTSTAMP:20191216T224407
CREATED:20191212T232107Z
LAST-MODIFIED:20191216T011105Z
UID:1132-1579784400-1579791600@digitalidentity.nz
SUMMARY:Digital Identity NZ January Webinar - International perspectives
DESCRIPTION:We have an extended 90 minute session planned\, incorporating our usual update from Digital Identity NZ and the DIA’s Digital Identity Transition programmes\, along with some special guests. In November we heard from Alan Bell on international perspectives\, and that has generated a lot of interest and discussion. To continue that conversation we are assembling a panel of members who have particular insight and exposure to some of the world-leading work in digital identity. This will be our first panel discussion in the webinar format\, hence the additional time for questions and answers. \n
URL:https://digitalidentity.nz/event/digital-identity-nz-november-webinar-international-perspectives/
LOCATION:Videoconference\, New Zealand
CATEGORIES:Digital Identity NZ
ATTACH;FMTTYPE=image/png:https://digitalidentity.nz/wp-content/uploads/sites/25/2019/12/banner2.png
GEO:-40.900557;174.885971
END:VEVENT
BEGIN:VEVENT
DTSTART;TZID="Pacific/Auckland":20200221T130000
DTEND;TZID="Pacific/Auckland":20200221T150000
DTSTAMP:20191216T224407
CREATED:20191212T234658Z
LAST-MODIFIED:20191216T011024Z
UID:1135-1582290000-1582297200@digitalidentity.nz
SUMMARY:Digital Identity NZ February Webinar
DESCRIPTION:Digital Identity will be continuing their 90 minute monthly webinar series throughout 2020. \nThese will incorporate the usual update from Digital Identity NZ with guest speakers invited depending on the webinar topic. \nAdditional details to follow but in the meantime you can save the date. \n
URL:https://digitalidentity.nz/event/digital-identity-nz-monthly-webinar/
LOCATION:Videoconference\, New Zealand
CATEGORIES:Digital Identity NZ
ATTACH;FMTTYPE=image/jpeg:https://digitalidentity.nz/wp-content/uploads/sites/25/2019/09/banner.jpg
GEO:-40.900557;174.885971
END:VEVENT
BEGIN:VEVENT
DTSTART;TZID="Pacific/Auckland":20200320T130000
DTEND;TZID="Pacific/Auckland":20200320T150000
DTSTAMP:20191216T224407
CREATED:20191216T004753Z
LAST-MODIFIED:20191216T011624Z
UID:1147-1584709200-1584716400@digitalidentity.nz
SUMMARY:Digital Identity NZ March Webinar
DESCRIPTION:Digital Identity will be continuing their 90 minute monthly webinar series throughout 2020. \nThese will incorporate the usual update from Digital Identity NZ with guest speakers invited depending on the webinar topic. \nAdditional details to follow but in the meantime you can save the date. \n
URL:https://digitalidentity.nz/event/digital-identity-nz-march-webinar/
LOCATION:Videoconference\, New Zealand
CATEGORIES:Digital Identity NZ
ATTACH;FMTTYPE=image/png:https://digitalidentity.nz/wp-content/uploads/sites/25/2019/12/Untitled-9.png
GEO:-40.900557;174.885971
END:VEVENT
END:VCALENDAR